BEGIN:VCALENDAR
VERSION:2.0
PRODID:-//eventon.com NONSGML v1.0//EN
CALSCALE:GREGORIAN
METHOD:PUBLISH
BEGIN:VEVENT
UID:69ecb84dc885c
DTSTAMP:20260425T124917Z
DTSTART:20250920T131400Z
DTEND:20250927T131400Z
LOCATION:
SUMMARY:Nourrir Huy Waremme 2025
DESCRIPTION:Du Samedi 20 septembre au samedi 27 septembre 2025\,  venez à 
 la rencontre des producteur.rice.s de votre région et partagez ensemble au
 tour des enjeux et des solutions à apporter à notre alimentation d&rsquo;
 aujourd&rsquo;hui et de demain.\nhttps://jesuishesbignon.be/events/nourrir-
 huy-waremme/
URL:https://jesuishesbignon.be/events/nourrir-huy-waremme/
END:VEVENT
END:VCALENDAR