BEGIN:VCALENDAR
VERSION:2.0
PRODID:-//eventon.com NONSGML v1.0//EN
CALSCALE:GREGORIAN
METHOD:PUBLISH
BEGIN:VEVENT
UID:69e62c9d74211
DTSTAMP:20260420T133941Z
DTSTART:20250327T140000Z
DTEND:20250327T210000Z
LOCATION:
SUMMARY:Nourrir Huy Waremme : la Rencontre des Orgas
DESCRIPTION:Bloquez votre agenda ! Nous vous revendrons bientôt avec plus 
 de détails et de renseignements ! Nourrir Huy Waremme\,  c’est reparti !
 Rendez-vous le jeudi 27 mars au Centre Culturel de Huy pour discuter et éc
 hanger autour de vos envies et besoin pour faire de ce festival une réussi
 te !Deux séances[..]\nhttps://jesuishesbignon.be/events/nourrir-huy-waremm
 e-la-rencontre-des-orgas/
URL:https://jesuishesbignon.be/events/nourrir-huy-waremme-la-rencontre-des-orgas/
END:VEVENT
END:VCALENDAR