BEGIN:VCALENDAR
VERSION:2.0
PRODID:-//eventon.com NONSGML v1.0//EN
CALSCALE:GREGORIAN
METHOD:PUBLISH
BEGIN:VEVENT
UID:69e73e29b066b
DTSTAMP:20260421T090649Z
DTSTART:20250925T040000Z
DTEND:20250925T220000Z
LOCATION:
SUMMARY:JEUDI 25 SEPTEMBRE
DESCRIPTION:\nhttps://jesuishesbignon.be/events/jeudi-25-septembre/
URL:https://jesuishesbignon.be/events/jeudi-25-septembre/
END:VEVENT
END:VCALENDAR